BEGIN:VCALENDAR
VERSION:2.0
PRODID:Imitheme.com 
BEGIN:VEVENT
UID:20260419T1635201533977440
DTSTAMP;TZID=UTC:2026-04-19 16:35:20
DTSTART;TZID=America/Los_Angeles:20260419T163520
DTEND;TZID=America/Los_Angeles:20260419T163520
SUMMARY:SUP meistarklases ar Jūliju Mihailovu
LOCATION:
DESCRIPTION:Jūlija Mihailova ir trīskārtēja absolūta Latvijas čempione SUP airēšanā, spēcīgākā airētāja Baltijā, un viņa ir gatava dalīties ar Jums savā pieredzē un zināšanās, kā kļūt ātrākām, justies pārliecinoši uz dēļa un cīnīties pa vietu uz pjedestāla . Meistarklases ietver : -  Dažādus spēka un balansa vingrinājumus uz SUP dēļa;  Pareizas airēšanas tehnikas pamatus ;  Treniņus, kas veltīti tam, kā pareizi pārvietoties un kustēties pa SUP dēli  U.c. noderīgas lietas, lai attīstītu SUP airēšanas iemaņas jaunā līmenī Pasākuma norises vieta : Rojas iela 3, Rītabuļļi, Rīga Nodarbības Laiks: 19:00 - 20:30 Dalības maksa – 20 eur. Ja tev ir savs SUP dēlis, tad 12.90 eur Ja tiek iegādāts 4 nodarbību abonements, tad viena nodarbība pa brīvu. Lūdzu piesakieties laicīgi, jo vietu skaits ir ierobežots Piesakieties rakstot uz info@bullulaivas.lv. Jautājumu gadījumā droši zvaniet 29221141.
URL:https://www.bullulaivas.lv/pasakums/sup-meistarklases-ar-juliju-mihailovu/
END:VEVENT
END:VCALENDAR
